BEGIN:VCALENDAR
VERSION:2.0
PRODID:icalendar-ruby
CALSCALE:GREGORIAN
METHOD:PUBLISH
BEGIN:VEVENT
DTSTAMP:20260420T145052Z
UID:5-1426343@newvision161.tithelysetup5.com
DTSTART:20261101T190000Z
DTEND:20261101T200000Z
CLASS:PUBLIC
CREATED:20260420T075005
DESCRIPTION:Sunday Worship
LAST-MODIFIED:20260420T075005
LOCATION:
SUMMARY:Sunday Worship
URL;VALUE=URI:https://www.nvmchurch.com/events/sunday-worship/2026-11-01
END:VEVENT
END:VCALENDAR
